BEGIN:VCALENDAR
VERSION:2.0
PRODID:-//More Life, Less House - ECPv6.14.2//NONSGML v1.0//EN
CALSCALE:GREGORIAN
METHOD:PUBLISH
X-ORIGINAL-URL:https://morelifelesshouse.com
X-WR-CALDESC:Events for More Life, Less House
REFRESH-INTERVAL;VALUE=DURATION:PT1H
X-Robots-Tag:noindex
X-PUBLISHED-TTL:PT1H
BEGIN:VTIMEZONE
TZID:America/Vancouver
BEGIN:DAYLIGHT
TZOFFSETFROM:-0800
TZOFFSETTO:-0700
TZNAME:PDT
DTSTART:20220313T100000
END:DAYLIGHT
BEGIN:STANDARD
TZOFFSETFROM:-0700
TZOFFSETTO:-0800
TZNAME:PST
DTSTART:20221106T090000
END:STANDARD
END:VTIMEZONE
BEGIN:VEVENT
DTSTART;TZID=America/Vancouver:20220604T100000
DTEND;TZID=America/Vancouver:20220605T160000
DTSTAMP:20260420T081626
CREATED:20220513T193842Z
LAST-MODIFIED:20220513T194729Z
UID:10000058-1654336800-1654444800@morelifelesshouse.com
SUMMARY:The Westcoast Small Home Expo 2022
DESCRIPTION:The only event of its kind\, returning 2022\, the Westcoast Small Home Expo! Encompassing condominium life\, townhomes\, tiny houses\, and more!\n\n\nHAPPENING JUNE 4 & 5 2022! Keep up-to-date on information by subscribing to our newsletter. Click here to subscribe. \nCONDO LIFE | TOWN HOUSES | TINY HOUSES | LANEWAY HOMES | SMALL APARTMENTS | DOWNSIZING \nThe only event of its kind\, returning 2022\, the Westcoast Small Home Expo! Encompassing condominium life\, townhomes\, tiny houses\, laneway homes\, downsizing\, micro-condos\, Granny suites\, lofts\, and more! This is your chance to connect with like-minded people who know that smaller is better! \nIf you’re ready to enjoy the freedom of a smaller home\, join us for two days of exploring what it means to live small. This show is for everyone from those buying their first home\, to those wishing to downsize for retirement\, and everything in-between. This is the perfect chance to discover ways to make your small space dreams come true. \nSee you there for two days of exciting possibilities\, at TRADEX\, just off the Trans-Canada Highway in Abbotsford. \nTRAVEL AND MOBILITY | LOWER YOUR CARBON FOOTPRINT | LOWER COSTS | GAIN FREEDOM
URL:https://morelifelesshouse.com/event/the-westcoast-small-home-expo-2022/
LOCATION:Tradex\, 1190 Cornell Street\, Abbotsford\, BC\, V2T 6H5\, Canada
ATTACH;FMTTYPE=image/jpeg:https://morelifelesshouse.com/wp-content/uploads/2022/05/8385b9269d4ead3d702576d6c11d6763.jpg
END:VEVENT
END:VCALENDAR