BEGIN:VCALENDAR
VERSION:2.0
PRODID:-//More Life, Less House - ECPv6.14.2//NONSGML v1.0//EN
CALSCALE:GREGORIAN
METHOD:PUBLISH
X-ORIGINAL-URL:https://morelifelesshouse.com
X-WR-CALDESC:Events for More Life, Less House
REFRESH-INTERVAL;VALUE=DURATION:PT1H
X-Robots-Tag:noindex
X-PUBLISHED-TTL:PT1H
BEGIN:VTIMEZONE
TZID:America/Phoenix
BEGIN:STANDARD
TZOFFSETFROM:-0700
TZOFFSETTO:-0700
TZNAME:MST
DTSTART:20220101T000000
END:STANDARD
END:VTIMEZONE
BEGIN:VTIMEZONE
TZID:America/New_York
BEGIN:DAYLIGHT
TZOFFSETFROM:-0500
TZOFFSETTO:-0400
TZNAME:EDT
DTSTART:20220313T070000
END:DAYLIGHT
BEGIN:STANDARD
TZOFFSETFROM:-0400
TZOFFSETTO:-0500
TZNAME:EST
DTSTART:20221106T060000
END:STANDARD
END:VTIMEZONE
BEGIN:VTIMEZONE
TZID:America/Denver
BEGIN:DAYLIGHT
TZOFFSETFROM:-0700
TZOFFSETTO:-0600
TZNAME:MDT
DTSTART:20220313T090000
END:DAYLIGHT
BEGIN:STANDARD
TZOFFSETFROM:-0600
TZOFFSETTO:-0700
TZNAME:MST
DTSTART:20221106T080000
END:STANDARD
END:VTIMEZONE
BEGIN:VTIMEZONE
TZID:America/Los_Angeles
BEGIN:DAYLIGHT
TZOFFSETFROM:-0800
TZOFFSETTO:-0700
TZNAME:PDT
DTSTART:20220313T100000
END:DAYLIGHT
BEGIN:STANDARD
TZOFFSETFROM:-0700
TZOFFSETTO:-0800
TZNAME:PST
DTSTART:20221106T090000
END:STANDARD
END:VTIMEZONE
BEGIN:VTIMEZONE
TZID:-05:00
END:VTIMEZONE
BEGIN:VTIMEZONE
TZID:America/Vancouver
BEGIN:DAYLIGHT
TZOFFSETFROM:-0800
TZOFFSETTO:-0700
TZNAME:PDT
DTSTART:20210314T100000
END:DAYLIGHT
BEGIN:STANDARD
TZOFFSETFROM:-0700
TZOFFSETTO:-0800
TZNAME:PST
DTSTART:20211107T090000
END:STANDARD
END:VTIMEZONE
BEGIN:VTIMEZONE
TZID:America/Toronto
BEGIN:DAYLIGHT
TZOFFSETFROM:-0500
TZOFFSETTO:-0400
TZNAME:EDT
DTSTART:20210314T070000
END:DAYLIGHT
BEGIN:STANDARD
TZOFFSETFROM:-0400
TZOFFSETTO:-0500
TZNAME:EST
DTSTART:20211107T060000
END:STANDARD
END:VTIMEZONE
BEGIN:VTIMEZONE
TZID:America/Chicago
BEGIN:DAYLIGHT
TZOFFSETFROM:-0600
TZOFFSETTO:-0500
TZNAME:CDT
DTSTART:20210314T080000
END:DAYLIGHT
BEGIN:STANDARD
TZOFFSETFROM:-0500
TZOFFSETTO:-0600
TZNAME:CST
DTSTART:20211107T070000
END:STANDARD
END:VTIMEZONE
BEGIN:VEVENT
DTSTART;TZID=America/Phoenix:20221203T100000
DTEND;TZID=America/Phoenix:20221204T170000
DTSTAMP:20260420T052353
CREATED:20220221T205316Z
LAST-MODIFIED:20220222T155121Z
UID:10000074-1670061600-1670173200@morelifelesshouse.com
SUMMARY:TinyFest Southwest  - Phoenix - 2022
DESCRIPTION:Tiny Home & Nomadic Living Expo\n\n\nTour tiny houses\, van conversions\, skoolies\, backyard cottages (ADUs)\, shipping container home\, adventure rigs and more! Meet the builders and people who are living and traveling tiny every day.  \nShop the Simple Living Marketplace.  Enjoy a variety of vendors who will guide you to minimize your clutter\, debt\, and carbon footprint. \nGain in depth information about a variety of topics and hear inspiring stories.  TinyFest features a weekend full of speaker presentations\, Q & A Sessions and Panel Discussions. Live Stream Tickets gives access to a live stream of the weekend festivities.  \nTinyFest is bringing together like-minded people who value the ideals behind building small and living large!! \nBy purchasing a ticket\, attendees are giving permission that their likeness may be used in any photos or videos taken by TinyFest representatives.
URL:https://morelifelesshouse.com/event/tinyfest-southwest-phoenix-2022/
LOCATION:Westworld Scottsdale\, 16601 N. Pima Rd.\, Scottsdale\, AZ\, 85260\, United States
CATEGORIES:Tiny Home
ATTACH;FMTTYPE=image/jpeg:https://morelifelesshouse.com/wp-content/uploads/2022/02/dcb88582a79519280ffc3b7aa2664788.jpg
END:VEVENT
BEGIN:VEVENT
DTSTART;TZID=America/New_York:20220924T090000
DTEND;TZID=America/New_York:20220925T170000
DTSTAMP:20260420T052353
CREATED:20211220T210656Z
LAST-MODIFIED:20220411T193846Z
UID:10000087-1664010000-1664125200@morelifelesshouse.com
SUMMARY:South Florida Great American Tiny House Show
DESCRIPTION:Tiny buddies\, exhibitors and builders will be here to answer your questions.
URL:https://morelifelesshouse.com/event/south-florida-great-american-tiny-house-show/
LOCATION:9067 Southern Blvd\, 9067 Southern Boulevard\, West Palm Beach\, FL\, 33411\, United States
CATEGORIES:Tiny Home
ATTACH;FMTTYPE=image/jpeg:https://morelifelesshouse.com/wp-content/uploads/2021/12/d6afefd06584e597f9b231c8e9e70e34.jpg
END:VEVENT
BEGIN:VEVENT
DTSTART;TZID=America/Denver:20220716T100000
DTEND;TZID=America/Denver:20220717T160000
DTSTAMP:20260420T052353
CREATED:20211027T155256Z
LAST-MODIFIED:20220222T155051Z
UID:10000096-1657965600-1658073600@morelifelesshouse.com
SUMMARY:2022 People's Tiny House Festival
DESCRIPTION:The People’s Tiny House Festival expos all facets of simple living including tiny houses\, camper vans\, converted school buses\, and more!\n\n\nEVENT TIMES: 10AM-4PM Both Days (Saturday-Sunday) \nThe People’s Tiny House Festival expos all facets of simple living including tiny houses\, converted vans\, converted school buses\, container homes\, and more. The event also invites vendors from all over the front range of Colorado to come and display their wares and services. \nThe event also includes:  \n\nCamper Vans\, Tiny Houses\, & School Bus Conversions\nDIYers from all over the country \nSpeakers and Panel Discussions\nLive Music \nBeer and Wine\n\nType of Event: \n\nFamily-Friendly\nDog Friendly\n\nDiscounted Ticket Sale \n\nMilitary – Get 20% Off (Claim Your Discount Here)\nSeniors – Get $20% Off (65 & Up. (Claim Your Discount Here)\nKids 12 and Under – Get in FREE
URL:https://morelifelesshouse.com/event/2022-peoples-tiny-house-festival/
LOCATION:The Ranch Events Complex\, 5280 Arena Circle\, Loveland\, CO\, 80538\, United States
CATEGORIES:Tiny Home
ATTACH;FMTTYPE=image/jpeg:https://morelifelesshouse.com/wp-content/uploads/2021/10/9e592f2d3a0f949d01e075a1563451d0.jpg
END:VEVENT
BEGIN:VEVENT
DTSTART;TZID=America/Denver:20220625T100000
DTEND;TZID=America/Denver:20220626T170000
DTSTAMP:20260420T052353
CREATED:20220221T204944Z
LAST-MODIFIED:20220222T155051Z
UID:10000073-1656151200-1656262800@morelifelesshouse.com
SUMMARY:2022 Colorado Tiny House Festival
DESCRIPTION:Experience Tiny Living at the Largest Tiny House Festival in Colorado\n\n\nThe 5th-annual Colorado Tiny House Festival is returning the weekend of June 25 & 26\, 2022  where you can tour:\n\nTiny house models\nContainer Homes\nBus & Van Conversions\nYurts\, Tents\, Tipis\nTeardrops\, overland & expedition trailers\nCustom campers\, RVs\nand MORE!\n\nLearn from industry experts at our incredible speaking presentations! \nMeet professional builders and people that DIY-built their own tiny home that can answer your questions! \n \nWhile you’re at the festival for a fun weekend you can enjoy: \n\nHuge variety of food from our incredible food truck lineup\nMany unique vendors to shop from\nMusic\nBeautiful 19-acre park with a playground & pet-friendly \n\nYour ticket is valid both Saturday and Sunday!\nKids under 12 are FREE \n \nWHEN? \nSaturday\, June 25\, 2022 10:0 AM – 5:00 PM \nSunday\, June 26\, 2022  10:00 AM – 5:00 PM \n \nWHERE? \nRiverdale Regional Park  (20 Minutes from Downtown Denver!) \n9755 Henderson Road \nBrighton\, CO 80601 \n \nFAQs \nQ – Can I buy tickets at the festival? \nA – Yes! Tickets will be available at the festival. \n \nQ – What day can I use my ticket? \nA – Tickets are valid for Saturday and Sunday! \n \nQ – Is this event pet-friendly? \nA – Absolutely! You are welcome to bring your pets and have them with you on the fairgrounds. However\, each builder and homeowner decides their own pet policies\, and some may not allow pets inside their homes. Please maintain all pets on a leash and clean up after them! \n \nQ – How can I contact the organizer with any questions? \nA – You can email us at info@coloradotinyhousefestival.com or call us at (303) 900-5477. \n \nQ – Do I have to bring my printed ticket to the event? \nA – Yes – you should bring your printed ticket\, or have the email ticket for quick and easy check-in at the festival!  But – if you’ve lost your ticket don’t worry; we can check you in with your name and ID in case you lost or forgot your ticket. \n \nQ – Will there be any vegetarian or vegan food options at this event? \nA – Yes! We work with our food vendors to make sure we have options for all preferences! \n \nQ -What’s the refund policy? \nA – Sorry\, there are no refunds for this event. The festival will take place rain or shine!
URL:https://morelifelesshouse.com/event/2022-colorado-tiny-house-festival/
LOCATION:Riverdale Regional Park\, 9755 Henderson Road\, Brighton\, CO\, 80601\, United States
CATEGORIES:Tiny Home
ATTACH;FMTTYPE=image/jpeg:https://morelifelesshouse.com/wp-content/uploads/2022/02/63ce2f49b7b43280a3f83fdfa7572640.jpg
END:VEVENT
BEGIN:VEVENT
DTSTART;TZID=America/Los_Angeles:20220312T100000
DTEND;TZID=America/Los_Angeles:20220313T170000
DTSTAMP:20260420T052353
CREATED:20211116T153441Z
LAST-MODIFIED:20220222T155300Z
UID:10000090-1647079200-1647190800@morelifelesshouse.com
SUMMARY:TinyFest California  - San Diego - 2022
DESCRIPTION:Celebrate TINY living in a BIG way!  Connect. Learn. Be Inspired.\n\n\nTour tiny houses\, van conversions\, skoolies\, backyard cottages (ADUs)\, shipping container home\, adventure rigs and more! Meet the builders and people who are living and traveling tiny every day.  \nShop the Simple Living Marketplace.  Enjoy a variety of vendors who will guide you to minimize your clutter\, debt\, and carbon footprint. \nGain in depth information about a variety of topics and hear inspiring stories.  TinyFest features a weekend full of speaker presentations\, Q & A Sessions and Panel Discussions. Live Stream Tickets gives access to a live stream of the weekend festivities.  \nTinyFest California is bringing together like-minded people who value the ideals behind building small and living large!! \nBy purchasing a ticket\, attendees are giving permission that their likeness may be used in any photos or videos taken by TinyFest representatives.
URL:https://morelifelesshouse.com/event/tinyfest-california-san-diego-2022/
LOCATION:Del Mar Fairgrounds\, 2260 Jimmy Durante Boulevard\, Del Mar\, CA\, 92014\, United States
CATEGORIES:Tiny Home
ATTACH;FMTTYPE=image/jpeg:https://morelifelesshouse.com/wp-content/uploads/2021/11/851a2baf4ad91d5f989bd8811cbb09d0.jpg
END:VEVENT
BEGIN:VEVENT
DTSTART;TZID=-05:00:20220303T190000
DTEND;TZID=-05:00:20220303T203000
DTSTAMP:20260420T052353
CREATED:20220221T205824Z
LAST-MODIFIED:20220222T155204Z
UID:10000075-1646334000-1646339400@morelifelesshouse.com
SUMMARY:Tiny Home Sweet Home
DESCRIPTION:Brainstorming events for those interested in forming a committee to help\, if not locate places to park in Duval County\, to formulate a plan to approach the zoning board to legalize tiny homes!
URL:https://morelifelesshouse.com/event/tiny-home-sweet-home/
LOCATION:Online event
CATEGORIES:Tiny Home
ATTACH;FMTTYPE=image/jpeg:https://morelifelesshouse.com/wp-content/uploads/2022/02/1024x576-OxtObD.tmp_.jpg
GEO:-8.521147;179.1962
END:VEVENT
BEGIN:VEVENT
DTSTART;TZID=America/New_York:20220130T090000
DTEND;TZID=America/New_York:20220130T170000
DTSTAMP:20260420T052353
CREATED:20211027T155101Z
LAST-MODIFIED:20220222T155238Z
UID:10000095-1643533200-1643562000@morelifelesshouse.com
SUMMARY:Tampa Tiny House Show
DESCRIPTION:Housing Solution Marketplace
URL:https://morelifelesshouse.com/event/tampa-tiny-house-show-2/
LOCATION:Florida State Fairgrounds\, 4800 U.S. 301\, Tampa\, FL\, 33610\, United States
CATEGORIES:Tiny Home
ATTACH;FMTTYPE=image/jpeg:https://morelifelesshouse.com/wp-content/uploads/2021/10/67cdf462d02d97c6cd177395681e281b.jpg
END:VEVENT
BEGIN:VEVENT
DTSTART;TZID=America/New_York:20220129T100000
DTEND;TZID=America/New_York:20220130T170000
DTSTAMP:20260420T052353
CREATED:20211220T210729Z
LAST-MODIFIED:20220222T155238Z
UID:10000086-1643450400-1643562000@morelifelesshouse.com
SUMMARY:Florida Suncoast Tiny Home Festival
DESCRIPTION:Would you live in a tiny house?  \n\n\nFlorida Suncoast Tiny Home Festival \nSat & Sun (Jan 29-30\, 2022) 10am-5pm \nEngland Brothers Park \n5010 81st Avenue North \nPinellas Park\, FL 33781 \nInterested in living in a tiny house\, skoolie (bus conversion)\, vardo\, van conversion\, or any other type of small home? Curious about the tiny living lifestyle… or perhaps looking for something fun and unique to do for the weekend?  \nPlease join us January 29-30\, 2022\, at the Florida Suncoast Tiny Home Festival.  This will by United Tiny House Association’s 25th for-charity tiny living event and is being held at England Brothers Park\, 5010 81st Avenue North\, Pinellas Park\, FL 33781.  It will a weekend full of all things “tiny“ and fun!  You will be able to tour and view different styles of tiny structures from professional builders and private home owners.  Learn and connect with people who live the tiny lifestyle\, and interact with vendors from both the tiny living and local communities. \nTour all kinds of tiny living structures such as tiny houses on wheels\, school bus conversions\, van conversions\, vardos wagons and many other tiny innovations.  Enjoy talks\, presentations\, and various workshops on subjects ranging from Building\, Zoning\, Downsizing\, Off-Grid Applications\, and other great topics that will be presented by numerous celebrities and experts from the World’s tiny lifestyle community!  There will also be Live Music\, Great Food\, Artisans\, Vendors\, and so MUCH MORE!  \nFREE admission for children ages 12 and under when accompanied by an adult who has a valid admission ticket.  Also\, Military (Retired\, Discharged & Active)\, Badged-Law Enforcement\, Firefighters\, and On-Scene Emergency Responders have FREE admission ALL weekend with proof of status.  (This offer does not apply to spouses or family members.) \nWell-behaved pets are welcome ONLY if they are either kept on a leash or in a carrier.  Also\, ALL PETS MUST be cleaned up after.  (Due to venue guidelines\, pets and their owners in violation of ANY of these matters will be required to leave the premises.) \nThis is an outdoor event and will be held rain or shine. \nSave $$ by purchasing discounted tickets online by 01/28/2022 or before the online inventory SELLS OUT!  (Full admission-priced tickets are always available at the gate during the event.) \nFull price tickets at the gate: $20.00 for a FULL weekend pass. (We are making our standard 1-day ticket price good for a full-weekend pass.) \nFestival Hours:  \nSaturday and Sunday 10AM-5PM \nComplete weekend schedule\, vendor & builder list\, speakers\, and activities available online at www.unitedtinyhouse.com. \nContact United Tiny House with ALL questions about this event. \nStay tuned with announcements and current information by clicking “Going” on our Facebook Event Page https://fb.me/e/17clmEwPY or visit www.unitedtinyhouse.com.
URL:https://morelifelesshouse.com/event/florida-suncoast-tiny-home-festival/
LOCATION:England Brothers Park\, 5010 81st Avenue North\, Pinellas Park\, FL\, 33781\, United States
CATEGORIES:Tiny Home
ATTACH;FMTTYPE=image/jpeg:https://morelifelesshouse.com/wp-content/uploads/2021/12/518054c3b9b87ca3b87a48498c9436c8.jpg
END:VEVENT
BEGIN:VEVENT
DTSTART;TZID=America/New_York:20220129T090000
DTEND;TZID=America/New_York:20220129T180000
DTSTAMP:20260420T052353
CREATED:20211027T155100Z
LAST-MODIFIED:20220222T155238Z
UID:10000094-1643446800-1643479200@morelifelesshouse.com
SUMMARY:Tampa Tiny House Show
DESCRIPTION:Housing Solution Marketplace
URL:https://morelifelesshouse.com/event/tampa-tiny-house-show/
LOCATION:Florida State Fairgrounds\, 4800 U.S. 301\, Tampa\, FL\, 33610\, United States
CATEGORIES:Tiny Home
ATTACH;FMTTYPE=image/jpeg:https://morelifelesshouse.com/wp-content/uploads/2021/10/67cdf462d02d97c6cd177395681e281b.jpg
END:VEVENT
BEGIN:VEVENT
DTSTART;TZID=America/New_York:20220108T090000
DTEND;TZID=America/New_York:20220108T160000
DTSTAMP:20260420T052353
CREATED:20211220T210617Z
LAST-MODIFIED:20220222T151332Z
UID:10000088-1641632400-1641657600@morelifelesshouse.com
SUMMARY:Tiny House Construction: Foundation and Framing
DESCRIPTION:This is one class out of a series on building tiny houses and general DIY skills.\n\n\nYou will participate in foundation and framing of a tiny house on the ground and on a trailer.  \nGet hands on experience with tools\, materials and best practices guided by EXPERT builders. \n \nAt the end of the class you will: \n– Be able to knowledgably select your trailer \n– understand materials \n– secure a foundation \n– frame your tiny house \n \nAfter the class you will have access to contact the builders directly with any questions or concerns you have on your personal projects.  \nWe are also availble (not included) to arrive at your location to help with your project in person.  \n \n*inclusions \n– lunch \n– refreshments \n– course materials  \n– usage of course tools \n \nWhat to wear: close fitting comfortable clothes\, sneakers or workboots and construction gloves (tie back long hair)
URL:https://morelifelesshouse.com/event/tiny-house-construction-foundation-and-framing/
LOCATION:Greensboro\, 801 N Eugene Street\, Greensboro\, NC\, 27401\, United States
CATEGORIES:Tiny Home
ATTACH;FMTTYPE=image/jpeg:https://morelifelesshouse.com/wp-content/uploads/2021/12/a70868868caa49343950c7cf146ab5e4.jpg
END:VEVENT
BEGIN:VEVENT
DTSTART;TZID=America/Vancouver:20211227T090000
DTEND;TZID=America/Vancouver:20211228T170000
DTSTAMP:20260420T052353
CREATED:20211130T185039Z
LAST-MODIFIED:20220222T155416Z
UID:10000089-1640595600-1640710800@morelifelesshouse.com
SUMMARY:Tiny House Design Weekend (Vancouver BC)
DESCRIPTION:A weekend packed with information on Tiny house design\, DIY\, legalities\, construction\, certification and community building.\n\n\nAn innovative tiny home design and building education weekend\, geared toward those interested in basic construction knowledge\, building design\, healthy homes and alternative small dwellings. 9am-4pm Saturday and Sunday\, February 22nd – 23rd at the Lions club \nOver two days\, participants will learn the “nuts and bolts” of how to design and build their very own tiny house. During this course\, we will discuss trailer (foundation) options\, floor plans\, legalities and living systems. Students will be walked through the steps of construction and will learn many do’s and dont’s that will save them grief and money. \nLearn how to design your tiny house in a healthy way for you and for the planet. How to save energy\, lower your build costs\, and be totally tailored to YOUR dreams and needs. The workshop is geared to all skill levels\, from custom builders to those who are just beginning their tiny house research journey. We will arm you with all the information you need to avoid pitfalls and get a smooth start! “Fail to plan or plan to fail”. For more information: www.tinyhealthyhomes.com \nThis includes tea/coffee and snacks.  \nThis introductory workshop is a survey of all the main basics\, including: \nPros and cons of tiny living \nThe types of tiny homes and how to choose the right one for you. The basic “rules” of tiny houses\, including sizes\, lengths\, and other limitations. Your dream floor plan and how to lay it out in scale. Technical topics like\, orientation\, structure\, insulation\, vapor barriers and house wraps\, ventilation\, and non-toxic finishes\, How to plan your project like a master\, and know what to do first\, second\, third…Mechanical topics like heat\, water\, waste\, and electricity. Construction basics\, structural\, framing\, flooring\, windows and doors\, roofing\, and so on! \nAbout your instructor \nYour instructor is Ben Garratt\, has been designing\, building and running Tiny house workshops for many years. Bens has over 20 years of construction experience and has built 24x Tiny houses. He incorporates engaging visual presentations\, videos\, and hands-on activities. Students will learn step-by-step every aspect needed to design and build their dream small space. Learn more at www.bengarratt.com/about/
URL:https://morelifelesshouse.com/event/tiny-house-design-weekend-vancouver-bc/
LOCATION:Vancouver Waldorf School\, 2725 St Christophers Road\, North Vancouver\, BC\, V7J 1Z8\, Canada
CATEGORIES:Tiny Home
ATTACH;FMTTYPE=image/jpeg:https://morelifelesshouse.com/wp-content/uploads/2021/11/f4ca415b797cd8089378fc74f4c7147a-1.jpg
END:VEVENT
BEGIN:VEVENT
DTSTART;TZID=America/Toronto:20211126T180000
DTEND;TZID=America/Toronto:20211128T173000
DTSTAMP:20260420T052353
CREATED:20211116T153344Z
LAST-MODIFIED:20220222T155338Z
UID:10000082-1637949600-1638120600@morelifelesshouse.com
SUMMARY:Ottawa Tiny House Workshop
DESCRIPTION:Want a tiny house? YEAH YOU DO. This is your workshop. We should you how to design one. How to build it. Legalities. Utilities. Come learn.\n\n\nLearn how to design & build a tiny house in this 2.5-day workshop this Nov 26-28\, 2021.\n \n \nThis is what you would call a “crash-course”. It saves you MONTHS of research\, ensures you are ready to go tiny\, and that you design the best tiny house for YOU.\n \n \nYou are learning from someone who designed and build their own tiny house\, has been living in it for 5 years\, and is a professional teacher. You are in good hands 🙂\n \n \n~-~-~-~-~-~-~-~-~-~-~-~-~\n \n \nWHAT WILL YOU LEARN?\n \n \nThis Tiny House workshop offers something for everyone\, from the skilled craftsman to someone who has never picked up a hammer.\n \n \nMy goal is to ensure you walk into this exciting next step with your eyes wide open. No sugar coating. And SO much content. Including:\n \n \n-What tiny home living is all about – the bad\, the good\, and the awesome\n \n \n-How to plan and design a tiny home starting from the trailer up\n \n \n-A step-by-step construction process so you know what you’re doing every step of the way\n \n \n-Living systems: Heating\, waste\, energy\, and water options\n \n \n-Legalities: For the road\, building codes and zoning/bylaws\n \n \n-Utilities\, product reviews\, trailer options… you name it\, you are going to become the local tiny house expert!\n \n \nAt the end of the workshop\, you ensure you have the knowledge you need to move forward with your tiny house with confidence.\n \n \n~-~-~-~-~-~-~-~-~-~-~-~-~\n \n \nREAD THE FULL DESCRIPTION HERE:\n \n \nThe In Person Workshop \n\n \n \n~-~-~-~-~-~-~-~-~-~-~-~-~\n \n \nWHERE & WHEN:\n \nWe will be meeting Friday\, Nov 26 @ 5:45pm at St. Paul University. We are in room L120.\n \n \nThe course continues 9am-5:30pm on Saturday and Sunday\, Nov 27/28.\n \n \n~-~-~-~-~-~-~-~-~-~-~-~-~\n \n \nWHAT ABOUT ‘DEM DISCOUNTS:\n \n \nYou can save $50!\n \nEARLY BIRD PRICING ENDS Nov 12\,  2021\n \n \nREGISTER NOW:\n \nwww.ATinyHouseWorkshop.com\n \n \n~-~-~-~-~-~-~-~-~-~-~-~-~\n \n \nEXTRA NOTES AND IMPORTANT DETAILS:\n \n \n–CANCELLATION POLICY: You can cancel and receive a full refund up to 4 weeks before the workshop. After that\, all cancellations are non-refundable. In the event the workshop is canceled (such as for COVID)\, you will receive a full refund.\n \n \n–COVID NOTE: We will be practicing all recommended guidelines for this event at the time it is held.\n \n \nLet’s be safe\, learn\, and enjoy a workshop together!\n \n \nSee you soon\,\n \nKenton Zerbin
URL:https://morelifelesshouse.com/event/ottawa-tiny-house-workshop/
LOCATION:Saint Paul University\, 223 Main Street\, Ottawa\, ON\, K1S 1C4\, Canada
CATEGORIES:Tiny Home
ATTACH;FMTTYPE=image/jpeg:https://morelifelesshouse.com/wp-content/uploads/2021/11/cae652192fdb1168b582cce28b41e761.jpg
END:VEVENT
BEGIN:VEVENT
DTSTART;TZID=America/Toronto:20211119T180000
DTEND;TZID=America/Toronto:20211121T173000
DTSTAMP:20260420T052353
CREATED:20211116T153248Z
LAST-MODIFIED:20220222T155338Z
UID:10000098-1637344800-1637515800@morelifelesshouse.com
SUMMARY:Toronto Tiny House Worshop
DESCRIPTION:Want a tiny house? YEAH YOU DO.\nThis is your workshop. We should learn to design one. To build it. Legalities. Utilities. Come learn.\n\n\nLearn how to design & build your very own tiny house this Nov 19-21\, 2021.\n \n \nThis is what you would call a “crash-course”. It saves you MONTHS of research\, ensures you are ready to go tiny\, and that you design the best tiny house for YOU.\n \n \nYou are learning from someone who designed and build their own tiny house\, has been living in it for 6 years\, and is a professional teacher. You are in good hands 🙂\n \n \n~-~-~-~-~-~-~-~-~-~-~-~-~\n \n \nWHAT YOU WILL LEARN:\n \n \nThis Tiny House workshop offers something for everyone\, from the skilled craftsman to someone who has never picked up a hammer.\n \n \nMy goal is to ensure you walk into this exciting next step with your eyes wide open. No sugar coating. And SO much content. Including:\n \n \n-What tiny home living is all about – the bad\, the good\, and the awesome\n \n \n-How to plan and design a tiny home starting from the trailer up\n \n \n-A step-by-step construction process so you know what you’re doing every step of the way\n \n \n-Living systems: Heating\, waste\, energy\, and water options\n \n \n-Legalities: For the road\, building codes and zoning/bylaws\n \n \n-Utilities\, product reviews\, trailer options… you name it\, you are going to become the local tiny house expert!\n \n \nAt the end of the workshop\, you ensure you have the knowledge you need to move forward with your tiny house with confidence.\n \n \n~-~-~-~-~-~-~-~-~-~-~-~-~\n \n \nREAD THE FULL DESCRIPTION HERE:\n \n \nThe In Person Workshop \n\n \n \n~-~-~-~-~-~-~-~-~-~-~-~-~\n \n \nWHERE & WHEN:\n \nWe will be meeting 6pm. Friday\, Nov 19 @ The Costume House\, 165 Geary Ave 2nd Floor\, Unit A\, Toronto\n \n \nThe course continues 9am-5:30pm on\n \nSaturday and Sunday\, Nov 20-21.\n \n \n~-~-~-~-~-~-~-~-~-~-~-~-~\n \n \nWHAT ABOUT ‘DEM DISCOUNTS:\n \n \nYou can save $50!\n \nEARLY BIRD PRICING ENDS Oct 20\, 2021\n \n \nREGISTER NOW:\n \nwww.ATinyHouseWorkshop.com\n \n \n~-~-~-~-~-~-~-~-~-~-~-~-~\n \n \nEXTRA NOTES AND IMPORTANT DETAILS:\n \n \n–NOTE: This is a frequently sold-out workshop\n \n \n–CANCELLATION POLICY: You can cancel and receive a full refund up to 4 weeks before the workshop. After that\, all cancellations are non-refundable. In the event the workshop is canceled (such as for COVID)\, you will receive a full refund.\n \n \n–COVID NOTE: We will be practicing all recommended guidelines for this event at the time it is held.\n \n \nLet’s be safe\, learn\, and enjoy a workshop together!\n \n \nSee you soon\,\n \nKenton Zerbin
URL:https://morelifelesshouse.com/event/toronto-tiny-house-worshop/
LOCATION:The Costume House\, 165 Geary Avenue\, #2nd Floor\, Unit A\, Toronto\, ON\, M6H 2B8\, Canada
CATEGORIES:Tiny Home
ATTACH;FMTTYPE=image/jpeg:https://morelifelesshouse.com/wp-content/uploads/2021/11/1b3bdf2d8d295412710cfabe992f6341.jpg
END:VEVENT
BEGIN:VEVENT
DTSTART;TZID=America/Chicago:20211106T100000
DTEND;TZID=America/Chicago:20211106T180000
DTSTAMP:20260420T052353
CREATED:20211027T135857Z
LAST-MODIFIED:20220222T151333Z
UID:10000093-1636192800-1636221600@morelifelesshouse.com
SUMMARY:Texas Tiny House Show- Simple Living in a Big Way
DESCRIPTION:The Great American Tiny House Show is a two-day exposition that helps you to connect you with your tribe\, expand your knowledge.
URL:https://morelifelesshouse.com/event/texas-tiny-house-show-simple-living-in-a-big-way-2/
LOCATION:Esports Stadium Arlington & Expo Center\, 1200 Ballpark Way\, Arlington\, TX\, 76011\, United States
CATEGORIES:Tiny Home
ATTACH;FMTTYPE=image/jpeg:https://morelifelesshouse.com/wp-content/uploads/2021/10/d99af157dc41c3a20427fec12c277568.jpg
END:VEVENT
BEGIN:VEVENT
DTSTART;TZID=America/Chicago:20211105T100000
DTEND;TZID=America/Chicago:20211105T190000
DTSTAMP:20260420T052353
CREATED:20211027T135856Z
LAST-MODIFIED:20220222T151333Z
UID:10000092-1636106400-1636138800@morelifelesshouse.com
SUMMARY:Texas Tiny House Show- Simple Living in a Big Way
DESCRIPTION:The Great American Tiny House Show is a two-day exposition that helps you to connect you with your tribe\, expand your knowledge.
URL:https://morelifelesshouse.com/event/texas-tiny-house-show-simple-living-in-a-big-way/
LOCATION:Esports Stadium Arlington & Expo Center\, 1200 Ballpark Way\, Arlington\, TX\, 76011\, United States
CATEGORIES:Tiny Home
ATTACH;FMTTYPE=image/jpeg:https://morelifelesshouse.com/wp-content/uploads/2021/10/d99af157dc41c3a20427fec12c277568.jpg
END:VEVENT
END:VCALENDAR